BEGIN:VCALENDAR
VERSION:2.0
PRODID:-//Favorite Eateries and More - ECPv6.15.20//NONSGML v1.0//EN
CALSCALE:GREGORIAN
METHOD:PUBLISH
X-ORIGINAL-URL:https://favoriteeateries.com
X-WR-CALDESC:Events for Favorite Eateries and More
REFRESH-INTERVAL;VALUE=DURATION:PT1H
X-Robots-Tag:noindex
X-PUBLISHED-TTL:PT1H
BEGIN:VTIMEZONE
TZID:America/New_York
BEGIN:DAYLIGHT
TZOFFSETFROM:-0500
TZOFFSETTO:-0400
TZNAME:EDT
DTSTART:20250309T070000
END:DAYLIGHT
BEGIN:STANDARD
TZOFFSETFROM:-0400
TZOFFSETTO:-0500
TZNAME:EST
DTSTART:20251102T060000
END:STANDARD
BEGIN:DAYLIGHT
TZOFFSETFROM:-0500
TZOFFSETTO:-0400
TZNAME:EDT
DTSTART:20260308T070000
END:DAYLIGHT
BEGIN:STANDARD
TZOFFSETFROM:-0400
TZOFFSETTO:-0500
TZNAME:EST
DTSTART:20261101T060000
END:STANDARD
BEGIN:DAYLIGHT
TZOFFSETFROM:-0500
TZOFFSETTO:-0400
TZNAME:EDT
DTSTART:20270314T070000
END:DAYLIGHT
BEGIN:STANDARD
TZOFFSETFROM:-0400
TZOFFSETTO:-0500
TZNAME:EST
DTSTART:20271107T060000
END:STANDARD
END:VTIMEZONE
BEGIN:VTIMEZONE
TZID:America/Los_Angeles
BEGIN:DAYLIGHT
TZOFFSETFROM:-0800
TZOFFSETTO:-0700
TZNAME:PDT
DTSTART:20250309T100000
END:DAYLIGHT
BEGIN:STANDARD
TZOFFSETFROM:-0700
TZOFFSETTO:-0800
TZNAME:PST
DTSTART:20251102T090000
END:STANDARD
BEGIN:DAYLIGHT
TZOFFSETFROM:-0800
TZOFFSETTO:-0700
TZNAME:PDT
DTSTART:20260308T100000
END:DAYLIGHT
BEGIN:STANDARD
TZOFFSETFROM:-0700
TZOFFSETTO:-0800
TZNAME:PST
DTSTART:20261101T090000
END:STANDARD
BEGIN:DAYLIGHT
TZOFFSETFROM:-0800
TZOFFSETTO:-0700
TZNAME:PDT
DTSTART:20270314T100000
END:DAYLIGHT
BEGIN:STANDARD
TZOFFSETFROM:-0700
TZOFFSETTO:-0800
TZNAME:PST
DTSTART:20271107T090000
END:STANDARD
END:VTIMEZONE
BEGIN:VTIMEZONE
TZID:America/Puerto_Rico
BEGIN:STANDARD
TZOFFSETFROM:-0400
TZOFFSETTO:-0400
TZNAME:AST
DTSTART:20250101T000000
END:STANDARD
END:VTIMEZONE
BEGIN:VEVENT
DTSTART;TZID=America/New_York:20260425T143000
DTEND;TZID=America/New_York:20260425T183000
DTSTAMP:20260422T062653
CREATED:20260420T034447Z
LAST-MODIFIED:20260420T034451Z
UID:25012-1777127400-1777141800@favoriteeateries.com
SUMMARY:Bull City Beer Mile
DESCRIPTION:Beer and running – no better combination!\n\n\n**REGISTRATION NOW OPEN**https://runsignup.com/Race/NC/Durham/BullCityBeerMile \nThe Glass Jug Beer Lab and Bull City Running Co. are proud to present the 5th annual Bull City Beer Mile on Saturday\, April 25\, 2026\, at Durham Central Park. \n*What is a Beer Mile?*A 1-mile drinking race combining running and speed drinking. Our race takes place on a 1/4-mile loop around Central Park. The race begins with the consumption of a 12-oz beer (RUN DRM lager brewed by The Glass Jug Beer Lab)\, followed by a 1/4 mile lap around the park. The second lap continues similarly; another 12-oz beer is consumed before commencing the running of the second lap. This process is repeated for the next two laps. Following the completion of the fourth beer and fourth running lap\, you will cross the finish line! \nYou can compete as an individual or as part of a 2- or 4-person relay team. All competitors must be 21+. \n*New for 2026!*Every participant or team not only receives four 12-ounce beers to consume as part of the race\, but the first 300 registrants will also get a free Bull City Beer Mile headband\, cooling towel\, and sticker to show your Bull City Beer Mile pride! \nBe sure to check out the optional add-ons for some new Beer Mile swag\, including t-shirts\, quick-dry hats\, socks\, and more! \nThe top 3 individual men and women\, as well as the fastest 4-person and 2-person relay teams\, will receive (huge) Bull City Beer Mile medals that double as bottle openers\, in addition to a prize pack from HOKA\, who is again sponsoring the race! \n*Party in the Park*This is more than just a race…it’s a party! With heats starting from 2:30pm until 5:00pm\, and the party going until 6:30 PM\, we’ll have DJ Gummy keeping things popping. The Glass Jug mobile beer trailer will be providing refreshments in the park\, and food will be available. \nRunners and spectators are encouraged to hang out in the park to cheer on the runners and enjoy a beer of their own during the race. The after-party will continue in the park until 6:30pm with The Glass Jug remaining open until 12:00am. \nThe official race beer will be brewed and served by The Glass Jug Beer Lab. Draft and 6-packs of 12-ounce cans will be available for purchase throughout the event\, in addition to the rest of their always fantastic beer lineup! \nPlease drink and run responsibly! \nSPONSORS:– Hoka– Beltane Fitness– Marie Austin Reality Company \nSIGN UP:https://runsignup.com/Race/NC/Durham/BullCityBeerMile
URL:https://favoriteeateries.com/event/bull-city-beer-mile/
LOCATION:Durham Central Park\, 501 Foster Street\, Durham\, NC\, 27701\, United States
CATEGORIES:Yoga, Runs or Rides
ATTACH;FMTTYPE=image/jpeg:https://favoriteeateries.com/wp-content/uploads/2026/04/8ad32bce4736446b462cad704dd6bba1.jpg
END:VEVENT
BEGIN:VEVENT
DTSTART;TZID=America/New_York:20260426T100000
DTEND;TZID=America/New_York:20260426T110000
DTSTAMP:20260422T062653
CREATED:20260420T023136Z
LAST-MODIFIED:20260420T023825Z
UID:24938-1777197600-1777201200@favoriteeateries.com
SUMMARY:Beer Yoga at LauderAle Brewery
DESCRIPTION:Yoga in the taproom at LauderAle. We incorporate a signature ale in to the poses for the last part of class!
URL:https://favoriteeateries.com/event/beer-yoga-at-lauderale-brewery/
LOCATION:LauderAle brewery\, 3305 SE 14th Ave\, Fort Lauderdale\, FL 33316\, Fort Lauderdale\, FL\, 33316\, United States
CATEGORIES:Bourbon, Beer and Wine Festivals,Yoga, Runs or Rides
ATTACH;FMTTYPE=image/jpeg:https://favoriteeateries.com/wp-content/uploads/2026/04/ba4e92382b750694cb19a2de2e758193.jpg
END:VEVENT
BEGIN:VEVENT
DTSTART;TZID=America/Los_Angeles:20260502T103000
DTEND;TZID=America/Los_Angeles:20260502T120000
DTSTAMP:20260422T062653
CREATED:20260420T021803Z
LAST-MODIFIED:20260420T023749Z
UID:24897-1777717800-1777723200@favoriteeateries.com
SUMMARY:Beer Yoga & Local Market
DESCRIPTION:Beer Yoga and Local Market at Dying Breed\n\n\nGrab your drinking buddies and your yoga mat and join us for an energetic flow at Dying Breed Brewing in Oakdale! \nThis is a beginner-friendly class — no experience needed in yoga or drinking 😝 \nWe’ll have amazing local vendors set up\, so come ready to shop\, sip\, and soak up all the fun vibes. Enjoy a cold beer as we move through a 45-minute flow\, using your brew as a prop along the way. Expect movement\, laughter\, and a seriously good time. \n✨ Each ticket includes: \n\nTwo drink tickets\n45 minutes of yoga with Stephannie\n\nPlease arrive 15–20 minutes early to grab your spot and your beverage before we get started. \nDon’t have a yoga mat? No worries — you can rent one at checkout. \nWe can’t wait to flow with you!Follow me on Instagram for updates and more info: @schmiiit
URL:https://favoriteeateries.com/event/beer-yoga-local-market/
LOCATION:Dying Breed Brewing\, 963 Shepard Court\, #Suite B\, Oakdale\, CA\, 95361\, United States
CATEGORIES:Bourbon, Beer and Wine Festivals,Yoga, Runs or Rides
ATTACH;FMTTYPE=image/jpeg:https://favoriteeateries.com/wp-content/uploads/2026/04/72a725e70eeb26c56f7325160ec125c7-1.jpg
END:VEVENT
BEGIN:VEVENT
DTSTART;TZID=America/Puerto_Rico:20260516T100000
DTEND;TZID=America/Puerto_Rico:20260516T120000
DTSTAMP:20260422T062653
CREATED:20260420T025610Z
LAST-MODIFIED:20260420T025613Z
UID:24969-1778925600-1778932800@favoriteeateries.com
SUMMARY:5K Beer Run x Beer Me Home |  PR Brewery Running Series
DESCRIPTION:Join us for a fun run at Beer Me Home. Run\, walk\, or jog\, then celebrate at the finish line with a PR craft beer!\n\n\n\nWe are the Puerto Rico Brewery Running Series® and we run for beer! \nSee you at Beer Me Home on Saturday\, May 16th @ 10 am! 🏃‍♂️🍻 \nPregame the La Capital Beer Fest with the PR Brewery Running Series! Join us for a 5K-ish fun run that starts and ends at Beer Me Home-Bayamon. Run\, walk\, jog – anything goes! This event is for all ages and fitness levels. Move at your own pace\, enjoy some fresh air\, and then celebrate with a locally made\, cold craft beer (or beer-mosa) at the finish line! 🎉 \nEvent Details \nWhen: Saturday\, May 16th at 10:00 AM \nWhere: Beer Me Home – Bayamon \nCourse: We’ve mapped out a 5Kish course that shows off the best of the neighborhood. The course details will be sent via email before race day! \n \nCelebrate at the finish line!\nRegistration includes: \n\nA craft beverage (1) from Beer Me Home 🍺\nYour choice of a series swag item from the Brewery Running Series 🎁\nAccess to the day’s festivities like live music\, food for purchase\, and more 🎉\n\nOur Mission:Be active. Have fun. Give back. A portion of all proceeds from this event support local nonprofits\, helping to make a positive impact in our community. 🙌 Over $500k raised to date! \nImportant Event Details: \n\nThis is an untimed fun run – all walkers\, runners\, and joggers are welcome! 👟\nOpen course: The event takes place on public roads\, so you are responsible for obeying traffic laws and being aware of your surroundings.\nID required: Bring a valid ID or driver’s license. You don’t need to be 18 to participate\, but you must be 18+ to enjoy the beer. Underage participants will receive a token for a non-alcoholic beverage. 🍹\nRain or shine: The event will go on\, no matter the weather! 🌧️☀️\n\nRegistration is limited to the size of the taproom\, so sign up today to guarantee your spot! \nKeep an eye on your inbox! We’ll send final details and reminders the week of the event\, including anything else you need to know to participate. \nQuestions? Reach out to us at: me*@******************es.com \nLet’s run\, drink beer\, and give back together at Beer Me Home! 🌟 #lifeisbrewtiful #breweryrunningseries #runforbeerpr \n\n\n\nImportant details: \n\nThis is an untimed\, fun-run. All levels of walkers\, runners and joggers are welcome.\nThis is an open course\, meaning roads will NOT be closed. You are responsible for obeying all traffic laws and regulations.\nWe create each route to start and end at the brewery and to show off the surrounding neighborhood. The course will be marked with arrows to help you know where to go.\nYou must bring a valid ID or driver’s license. You do not need to be 18 to enjoy the event\, but you must be 18 to enjoy the beer. Please drink responsibly. Registered\, underage participants will receive a token for a FREE non-alcoholic beverage.\nOur events are rain or shine! If conditions become unsafe to run\, we will still hang out and drink beer.\nThere will not be a bag check; please plan accordingly and dress appropriately for the weather.\nDogs and strollers are welcome on the course\, with care and caution. Please remember – you are running at your own risk on city sidewalks / streets / trails\, which might not be suitable for your 4-legged and /or pint size running buddies. You will also want to check with the brewery to make sure you can abide by their dog / underage policies. Please make the best decision possible for your crew.\nPlease drink responsibly. We always encourage carpooling and safe\, designated drivers.\n\nKeep an eye on your inbox – we will send you all final event details via email the week of this event and share anything else you might need to know to participate. \nQuestions? Check out our FAQ | Contact us at me*@******************es.com \nCheers to beers! We’ll see you at Beer Me Home!
URL:https://favoriteeateries.com/event/5k-beer-run-x-beer-me-home-pr-brewery-running-series/
LOCATION:Beer Me Home – Beers & Tapas\, Estacion del Tren de Bayamon\, #Suite 104A\, Bayamón\, Bayamón\, 00961\, Puerto Rico
CATEGORIES:Yoga, Runs or Rides
ATTACH;FMTTYPE=image/jpeg:https://favoriteeateries.com/wp-content/uploads/2026/04/f780c53d9f65653d70ddd6bac201fc1a.jpg
END:VEVENT
BEGIN:VEVENT
DTSTART;TZID=America/New_York:20260516T130000
DTEND;TZID=America/New_York:20260516T170000
DTSTAMP:20260422T062653
CREATED:20260420T034224Z
LAST-MODIFIED:20260420T034229Z
UID:25004-1778936400-1778950800@favoriteeateries.com
SUMMARY:Hike Bike Brew: 2026 Lula Lake Beer Festival
DESCRIPTION:Hike Bike Brew is the premier beer festival where brews meet the outdoors to support Lula Lake’s trail work and conservation efforts!\n\n\nHike Bike Brew is the premier beer festival that takes you into the heart of Lula Lake for an adventure you cannot find anywhere else: iconic sights + delicious brews + beautiful trails.\nJoin us for our 11th annual Hike Bike Brew Beer Festival at Lula Lake! This is our ONLY beer festival for 2026. \nAt this premier beer festival\, you can hike or bike the “Beer Path loop” leading you to the famous Lula Lake and Lula Falls\, while stopping for beer tasters along the way. Afterward\, enjoy brews in our meadow party with live music\, games\, food (included with ticket)\, and more! \nEach ticket is an adventure waiting to happen\, and your support helps Lula Lake continue our conservation efforts! \n\nLimited # of VIP tickets for the ultimate experience (details below)\n50 tent camping spots are available\, and you can add them on during check-out. Please note\, all campers must have an admission ticket. No exceptions.\n\nTimeline: \n1:00 PM ET – Event start \n1:00-1:30 PM ET – Check-in \n1:00-3:00 PM ET – Brewery stops available along the beer path \n3:00-5:00 PM ET – Brewery stops available in meadow + afterparty with music and tasty bites \nTicketing Information:All ticket proceeds will go toward Lula Lake’s trail work and conservation efforts!Note: Tickest are non-refundable. No exceptions. If you cannot attend and wish to transfer your ticket\, please email in**@******ke.org. \nDo NOT purchase resale tickets from 3rd party indiviudals unless you contact us to verify the’re legitimate tickets. We will NOT honor scam ticket purchases. \nVIP Drinker (ages 21+) \n\nincludes priority parking\, exclusive souvenir cup\, VIP tent access at meadow party\, access to VIP line for each beer stop\, beer\, tasty bites\, and access to beer path trail\n\nGeneral Admission Drinker (ages 21+) \n\nincludes beer\, standard souvenir cup\, tasty bites\, and access to beer path trail\n\nNon-Drinker: \n\nincludes tasty bites and access to beer path trail\nCamping Add-on Details:\n\n\nSaturday\, May 16\, 5:30 PM ET – Sunday\, May 17\, 10:00 AM ET.\nAll campers MUST have an admission ticket. No exceptions.\nThe camping add-on is for (1) tent for your party. If you require more than (1) tent\, you’ll need to purchase additional add-on camping spots.\nThere is no potable water or electricity at Lula Lake Land Trust. You must provide your own water\, food\, lighting\, and camping equipment. You cannot set-up camp until after the event ends at 5:00 PM ET. There are two fire pits in the meadow for group fires\, no individual fires are permitted. You’re required to pack out what you bring in when you leave by 10:00 AM ET on Sunday\, May 17.\n\nParticipating Brewers: \n\nBack Forty Beer Co.\nChattanooga Brewing Co.\nCreature Comforts Brewing Co.\nDalton Brewing Co.\nDynamo Brewing\nFive Wits Brewing Co.\nHutton & Smith Brewing Co.\nKavocado Beer\nMean King Brewing\nMonkey Town Brewing Co.\nOddstory Brewing Co.\nSierra Nevada Brewing Co.\nMORE TO BE ANNOUNCED!\n\nBrewers are subject to change\, but the amount of beer will stay the same! \n \nFeatured tasty bite: Butter Snob Baking!  \nMORE TO BE ANNOUNCED!  \n \nLula Lake’s 2026 Hike Bike Brew Festival is proudly presented by Netevate. The event is sponsored by Acura of Chattanooga and NewTerra Compost.
URL:https://favoriteeateries.com/event/hike-bike-brew-2026-lula-lake-beer-festival/
LOCATION:Lula Lake Land Trust\, 5000 Lula Lake Road\, Lookout Mountain\, GA\, 30750\, United States
CATEGORIES:Yoga, Runs or Rides
ATTACH;FMTTYPE=image/jpeg:https://favoriteeateries.com/wp-content/uploads/2026/04/1ae301a82481323d26861f9b6e54aeb0.jpg
END:VEVENT
BEGIN:VEVENT
DTSTART;TZID=America/New_York:20260517T100000
DTEND;TZID=America/New_York:20260517T110000
DTSTAMP:20260422T062653
CREATED:20260420T023137Z
LAST-MODIFIED:20260420T023518Z
UID:24942-1779012000-1779015600@favoriteeateries.com
SUMMARY:Beer Yoga at LauderAle Brewery
DESCRIPTION:Yoga in the taproom at LauderAle. We incorporate a signature ale in to the poses for the last part of class!
URL:https://favoriteeateries.com/event/beer-yoga-at-lauderale-brewery-4/
LOCATION:LauderAle brewery\, 3305 SE 14th Ave\, Fort Lauderdale\, FL 33316\, Fort Lauderdale\, FL\, 33316\, United States
CATEGORIES:Yoga, Runs or Rides
ATTACH;FMTTYPE=image/jpeg:https://favoriteeateries.com/wp-content/uploads/2026/04/ba4e92382b750694cb19a2de2e758193.jpg
END:VEVENT
BEGIN:VEVENT
DTSTART;TZID=America/New_York:20260517T100000
DTEND;TZID=America/New_York:20260517T110000
DTSTAMP:20260422T062653
CREATED:20260420T030211Z
LAST-MODIFIED:20260420T030211Z
UID:24978-1779012000-1779015600@favoriteeateries.com
SUMMARY:Yoga & Beer
DESCRIPTION:All-levels outdoor yoga class at Crooked Can Brewery in Winter Garden. Purchase includes a 45 minute yoga class and pint of beer or seltzer.
URL:https://favoriteeateries.com/event/yoga-beer/
LOCATION:Crooked Can Brewing Company\, 426 West Plant Street\, Winter Garden\, FL\, 34787\, United States
CATEGORIES:Yoga, Runs or Rides
ATTACH;FMTTYPE=image/jpeg:https://favoriteeateries.com/wp-content/uploads/2026/04/c06dad603f11fa1d4aa163f68aedc08e.jpg
END:VEVENT
BEGIN:VEVENT
DTSTART;TZID=America/New_York:20260621T100000
DTEND;TZID=America/New_York:20260621T110000
DTSTAMP:20260422T062653
CREATED:20260420T030212Z
LAST-MODIFIED:20260420T030212Z
UID:24980-1782036000-1782039600@favoriteeateries.com
SUMMARY:Yoga & Beer
DESCRIPTION:All-levels outdoor yoga class at Crooked Can Brewery in Winter Garden. Purchase includes a 45 minute yoga class and pint of beer or seltzer.
URL:https://favoriteeateries.com/event/yoga-beer-2/
LOCATION:Crooked Can Brewing Company\, 426 West Plant Street\, Winter Garden\, FL\, 34787\, United States
CATEGORIES:Yoga, Runs or Rides
ATTACH;FMTTYPE=image/jpeg:https://favoriteeateries.com/wp-content/uploads/2026/04/c06dad603f11fa1d4aa163f68aedc08e.jpg
END:VEVENT
BEGIN:VEVENT
DTSTART;TZID=America/New_York:20260719T100000
DTEND;TZID=America/New_York:20260719T110000
DTSTAMP:20260422T062653
CREATED:20260420T030212Z
LAST-MODIFIED:20260420T030212Z
UID:24981-1784455200-1784458800@favoriteeateries.com
SUMMARY:Yoga & Beer
DESCRIPTION:All-levels outdoor yoga class at Crooked Can Brewery in Winter Garden. Purchase includes a 45 minute yoga class and pint of beer or seltzer.
URL:https://favoriteeateries.com/event/yoga-beer-3/
LOCATION:Crooked Can Brewing Company\, 426 West Plant Street\, Winter Garden\, FL\, 34787\, United States
CATEGORIES:Yoga, Runs or Rides
ATTACH;FMTTYPE=image/jpeg:https://favoriteeateries.com/wp-content/uploads/2026/04/c06dad603f11fa1d4aa163f68aedc08e.jpg
END:VEVENT
BEGIN:VEVENT
DTSTART;TZID=America/New_York:20260816T100000
DTEND;TZID=America/New_York:20260816T110000
DTSTAMP:20260422T062653
CREATED:20260420T030212Z
LAST-MODIFIED:20260420T030212Z
UID:24982-1786874400-1786878000@favoriteeateries.com
SUMMARY:Yoga & Beer
DESCRIPTION:All-levels outdoor yoga class at Crooked Can Brewery in Winter Garden. Purchase includes a 45 minute yoga class and pint of beer or seltzer.
URL:https://favoriteeateries.com/event/yoga-beer-4/
LOCATION:Crooked Can Brewing Company\, 426 West Plant Street\, Winter Garden\, FL\, 34787\, United States
CATEGORIES:Yoga, Runs or Rides
ATTACH;FMTTYPE=image/jpeg:https://favoriteeateries.com/wp-content/uploads/2026/04/c06dad603f11fa1d4aa163f68aedc08e.jpg
END:VEVENT
BEGIN:VEVENT
DTSTART;TZID=America/New_York:20260920T100000
DTEND;TZID=America/New_York:20260920T110000
DTSTAMP:20260422T062653
CREATED:20260420T030213Z
LAST-MODIFIED:20260420T030213Z
UID:24983-1789898400-1789902000@favoriteeateries.com
SUMMARY:Yoga & Beer
DESCRIPTION:All-levels outdoor yoga class at Crooked Can Brewery in Winter Garden. Purchase includes a 45 minute yoga class and pint of beer or seltzer.
URL:https://favoriteeateries.com/event/yoga-beer-5/
LOCATION:Crooked Can Brewing Company\, 426 West Plant Street\, Winter Garden\, FL\, 34787\, United States
CATEGORIES:Yoga, Runs or Rides
ATTACH;FMTTYPE=image/jpeg:https://favoriteeateries.com/wp-content/uploads/2026/04/c06dad603f11fa1d4aa163f68aedc08e.jpg
END:VEVENT
END:VCALENDAR