BEGIN:VCALENDAR
VERSION:2.0
PRODID:-//Favorite Eateries and More - ECPv6.15.20//NONSGML v1.0//EN
CALSCALE:GREGORIAN
METHOD:PUBLISH
X-ORIGINAL-URL:https://favoriteeateries.com
X-WR-CALDESC:Events for Favorite Eateries and More
REFRESH-INTERVAL;VALUE=DURATION:PT1H
X-Robots-Tag:noindex
X-PUBLISHED-TTL:PT1H
BEGIN:VTIMEZONE
TZID:America/Puerto_Rico
BEGIN:STANDARD
TZOFFSETFROM:-0400
TZOFFSETTO:-0400
TZNAME:AST
DTSTART:20250101T000000
END:STANDARD
END:VTIMEZONE
BEGIN:VTIMEZONE
TZID:America/New_York
BEGIN:DAYLIGHT
TZOFFSETFROM:-0500
TZOFFSETTO:-0400
TZNAME:EDT
DTSTART:20250309T070000
END:DAYLIGHT
BEGIN:STANDARD
TZOFFSETFROM:-0400
TZOFFSETTO:-0500
TZNAME:EST
DTSTART:20251102T060000
END:STANDARD
BEGIN:DAYLIGHT
TZOFFSETFROM:-0500
TZOFFSETTO:-0400
TZNAME:EDT
DTSTART:20260308T070000
END:DAYLIGHT
BEGIN:STANDARD
TZOFFSETFROM:-0400
TZOFFSETTO:-0500
TZNAME:EST
DTSTART:20261101T060000
END:STANDARD
BEGIN:DAYLIGHT
TZOFFSETFROM:-0500
TZOFFSETTO:-0400
TZNAME:EDT
DTSTART:20270314T070000
END:DAYLIGHT
BEGIN:STANDARD
TZOFFSETFROM:-0400
TZOFFSETTO:-0500
TZNAME:EST
DTSTART:20271107T060000
END:STANDARD
END:VTIMEZONE
BEGIN:VEVENT
DTSTART;TZID=America/Puerto_Rico:20260516T100000
DTEND;TZID=America/Puerto_Rico:20260516T120000
DTSTAMP:20260422T105926
CREATED:20260420T025610Z
LAST-MODIFIED:20260420T025613Z
UID:24969-1778925600-1778932800@favoriteeateries.com
SUMMARY:5K Beer Run x Beer Me Home |  PR Brewery Running Series
DESCRIPTION:Join us for a fun run at Beer Me Home. Run\, walk\, or jog\, then celebrate at the finish line with a PR craft beer!\n\n\n\nWe are the Puerto Rico Brewery Running Series® and we run for beer! \nSee you at Beer Me Home on Saturday\, May 16th @ 10 am! 🏃‍♂️🍻 \nPregame the La Capital Beer Fest with the PR Brewery Running Series! Join us for a 5K-ish fun run that starts and ends at Beer Me Home-Bayamon. Run\, walk\, jog – anything goes! This event is for all ages and fitness levels. Move at your own pace\, enjoy some fresh air\, and then celebrate with a locally made\, cold craft beer (or beer-mosa) at the finish line! 🎉 \nEvent Details \nWhen: Saturday\, May 16th at 10:00 AM \nWhere: Beer Me Home – Bayamon \nCourse: We’ve mapped out a 5Kish course that shows off the best of the neighborhood. The course details will be sent via email before race day! \n \nCelebrate at the finish line!\nRegistration includes: \n\nA craft beverage (1) from Beer Me Home 🍺\nYour choice of a series swag item from the Brewery Running Series 🎁\nAccess to the day’s festivities like live music\, food for purchase\, and more 🎉\n\nOur Mission:Be active. Have fun. Give back. A portion of all proceeds from this event support local nonprofits\, helping to make a positive impact in our community. 🙌 Over $500k raised to date! \nImportant Event Details: \n\nThis is an untimed fun run – all walkers\, runners\, and joggers are welcome! 👟\nOpen course: The event takes place on public roads\, so you are responsible for obeying traffic laws and being aware of your surroundings.\nID required: Bring a valid ID or driver’s license. You don’t need to be 18 to participate\, but you must be 18+ to enjoy the beer. Underage participants will receive a token for a non-alcoholic beverage. 🍹\nRain or shine: The event will go on\, no matter the weather! 🌧️☀️\n\nRegistration is limited to the size of the taproom\, so sign up today to guarantee your spot! \nKeep an eye on your inbox! We’ll send final details and reminders the week of the event\, including anything else you need to know to participate. \nQuestions? Reach out to us at: me*@******************es.com \nLet’s run\, drink beer\, and give back together at Beer Me Home! 🌟 #lifeisbrewtiful #breweryrunningseries #runforbeerpr \n\n\n\nImportant details: \n\nThis is an untimed\, fun-run. All levels of walkers\, runners and joggers are welcome.\nThis is an open course\, meaning roads will NOT be closed. You are responsible for obeying all traffic laws and regulations.\nWe create each route to start and end at the brewery and to show off the surrounding neighborhood. The course will be marked with arrows to help you know where to go.\nYou must bring a valid ID or driver’s license. You do not need to be 18 to enjoy the event\, but you must be 18 to enjoy the beer. Please drink responsibly. Registered\, underage participants will receive a token for a FREE non-alcoholic beverage.\nOur events are rain or shine! If conditions become unsafe to run\, we will still hang out and drink beer.\nThere will not be a bag check; please plan accordingly and dress appropriately for the weather.\nDogs and strollers are welcome on the course\, with care and caution. Please remember – you are running at your own risk on city sidewalks / streets / trails\, which might not be suitable for your 4-legged and /or pint size running buddies. You will also want to check with the brewery to make sure you can abide by their dog / underage policies. Please make the best decision possible for your crew.\nPlease drink responsibly. We always encourage carpooling and safe\, designated drivers.\n\nKeep an eye on your inbox – we will send you all final event details via email the week of this event and share anything else you might need to know to participate. \nQuestions? Check out our FAQ | Contact us at me*@******************es.com \nCheers to beers! We’ll see you at Beer Me Home!
URL:https://favoriteeateries.com/event/5k-beer-run-x-beer-me-home-pr-brewery-running-series/
LOCATION:Beer Me Home – Beers & Tapas\, Estacion del Tren de Bayamon\, #Suite 104A\, Bayamón\, Bayamón\, 00961\, Puerto Rico
CATEGORIES:Yoga, Runs or Rides
ATTACH;FMTTYPE=image/jpeg:https://favoriteeateries.com/wp-content/uploads/2026/04/f780c53d9f65653d70ddd6bac201fc1a.jpg
END:VEVENT
BEGIN:VEVENT
DTSTART;TZID=America/New_York:20260516T130000
DTEND;TZID=America/New_York:20260516T170000
DTSTAMP:20260422T105926
CREATED:20260420T034224Z
LAST-MODIFIED:20260420T034229Z
UID:25004-1778936400-1778950800@favoriteeateries.com
SUMMARY:Hike Bike Brew: 2026 Lula Lake Beer Festival
DESCRIPTION:Hike Bike Brew is the premier beer festival where brews meet the outdoors to support Lula Lake’s trail work and conservation efforts!\n\n\nHike Bike Brew is the premier beer festival that takes you into the heart of Lula Lake for an adventure you cannot find anywhere else: iconic sights + delicious brews + beautiful trails.\nJoin us for our 11th annual Hike Bike Brew Beer Festival at Lula Lake! This is our ONLY beer festival for 2026. \nAt this premier beer festival\, you can hike or bike the “Beer Path loop” leading you to the famous Lula Lake and Lula Falls\, while stopping for beer tasters along the way. Afterward\, enjoy brews in our meadow party with live music\, games\, food (included with ticket)\, and more! \nEach ticket is an adventure waiting to happen\, and your support helps Lula Lake continue our conservation efforts! \n\nLimited # of VIP tickets for the ultimate experience (details below)\n50 tent camping spots are available\, and you can add them on during check-out. Please note\, all campers must have an admission ticket. No exceptions.\n\nTimeline: \n1:00 PM ET – Event start \n1:00-1:30 PM ET – Check-in \n1:00-3:00 PM ET – Brewery stops available along the beer path \n3:00-5:00 PM ET – Brewery stops available in meadow + afterparty with music and tasty bites \nTicketing Information:All ticket proceeds will go toward Lula Lake’s trail work and conservation efforts!Note: Tickest are non-refundable. No exceptions. If you cannot attend and wish to transfer your ticket\, please email in**@******ke.org. \nDo NOT purchase resale tickets from 3rd party indiviudals unless you contact us to verify the’re legitimate tickets. We will NOT honor scam ticket purchases. \nVIP Drinker (ages 21+) \n\nincludes priority parking\, exclusive souvenir cup\, VIP tent access at meadow party\, access to VIP line for each beer stop\, beer\, tasty bites\, and access to beer path trail\n\nGeneral Admission Drinker (ages 21+) \n\nincludes beer\, standard souvenir cup\, tasty bites\, and access to beer path trail\n\nNon-Drinker: \n\nincludes tasty bites and access to beer path trail\nCamping Add-on Details:\n\n\nSaturday\, May 16\, 5:30 PM ET – Sunday\, May 17\, 10:00 AM ET.\nAll campers MUST have an admission ticket. No exceptions.\nThe camping add-on is for (1) tent for your party. If you require more than (1) tent\, you’ll need to purchase additional add-on camping spots.\nThere is no potable water or electricity at Lula Lake Land Trust. You must provide your own water\, food\, lighting\, and camping equipment. You cannot set-up camp until after the event ends at 5:00 PM ET. There are two fire pits in the meadow for group fires\, no individual fires are permitted. You’re required to pack out what you bring in when you leave by 10:00 AM ET on Sunday\, May 17.\n\nParticipating Brewers: \n\nBack Forty Beer Co.\nChattanooga Brewing Co.\nCreature Comforts Brewing Co.\nDalton Brewing Co.\nDynamo Brewing\nFive Wits Brewing Co.\nHutton & Smith Brewing Co.\nKavocado Beer\nMean King Brewing\nMonkey Town Brewing Co.\nOddstory Brewing Co.\nSierra Nevada Brewing Co.\nMORE TO BE ANNOUNCED!\n\nBrewers are subject to change\, but the amount of beer will stay the same! \n \nFeatured tasty bite: Butter Snob Baking!  \nMORE TO BE ANNOUNCED!  \n \nLula Lake’s 2026 Hike Bike Brew Festival is proudly presented by Netevate. The event is sponsored by Acura of Chattanooga and NewTerra Compost.
URL:https://favoriteeateries.com/event/hike-bike-brew-2026-lula-lake-beer-festival/
LOCATION:Lula Lake Land Trust\, 5000 Lula Lake Road\, Lookout Mountain\, GA\, 30750\, United States
CATEGORIES:Yoga, Runs or Rides
ATTACH;FMTTYPE=image/jpeg:https://favoriteeateries.com/wp-content/uploads/2026/04/1ae301a82481323d26861f9b6e54aeb0.jpg
END:VEVENT
END:VCALENDAR