BEGIN:VCALENDAR
VERSION:2.0
PRODID:-//Favorite Eateries and More - ECPv6.15.20//NONSGML v1.0//EN
CALSCALE:GREGORIAN
METHOD:PUBLISH
X-WR-CALNAME:Favorite Eateries and More
X-ORIGINAL-URL:https://favoriteeateries.com
X-WR-CALDESC:Events for Favorite Eateries and More
REFRESH-INTERVAL;VALUE=DURATION:PT1H
X-Robots-Tag:noindex
X-PUBLISHED-TTL:PT1H
BEGIN:VTIMEZONE
TZID:America/Los_Angeles
BEGIN:DAYLIGHT
TZOFFSETFROM:-0800
TZOFFSETTO:-0700
TZNAME:PDT
DTSTART:20250309T100000
END:DAYLIGHT
BEGIN:STANDARD
TZOFFSETFROM:-0700
TZOFFSETTO:-0800
TZNAME:PST
DTSTART:20251102T090000
END:STANDARD
BEGIN:DAYLIGHT
TZOFFSETFROM:-0800
TZOFFSETTO:-0700
TZNAME:PDT
DTSTART:20260308T100000
END:DAYLIGHT
BEGIN:STANDARD
TZOFFSETFROM:-0700
TZOFFSETTO:-0800
TZNAME:PST
DTSTART:20261101T090000
END:STANDARD
BEGIN:DAYLIGHT
TZOFFSETFROM:-0800
TZOFFSETTO:-0700
TZNAME:PDT
DTSTART:20270314T100000
END:DAYLIGHT
BEGIN:STANDARD
TZOFFSETFROM:-0700
TZOFFSETTO:-0800
TZNAME:PST
DTSTART:20271107T090000
END:STANDARD
END:VTIMEZONE
BEGIN:VEVENT
DTSTART;TZID=America/Los_Angeles:20260606T130000
DTEND;TZID=America/Los_Angeles:20260606T170000
DTSTAMP:20260422T081752
CREATED:20260420T030405Z
LAST-MODIFIED:20260420T030422Z
UID:24987-1780750800-1780765200@favoriteeateries.com
SUMMARY:LA Independent Beer Fest 2026 - The signature event of LA Beer Week
DESCRIPTION:The Kickoff to the 17th Annual LA Beer Week returns to LONG BEACH on Saturday\, June 6th at Shoreline Park.\n\n\nThe 17th Annual L.A. Beer Week is here! Join us for our big Kickoff Festival on Saturday\, June 6th at Shoreline Aquatic Park in Long Beach! We are bringing the heat this summer with an awesome festival featuring 75 independent craft breweries\, live music\, great local food\, games\, and more! \nProduced by the Los Angeles County Brewers Guild\, #LABW17 will feature the largest number of Los Angeles County-based craft breweries — more than any other festival in town! Join us and support your local brewers and the nonprofit organization that strives to foster craft beer culture in L.A. County. Admission includes a keepsake glass and unlimited tastes of over 150 beers from 75 breweries. This is surely a not-to-miss summer festival! \nVIP Tickets include early entry at 12pm\, access to special and rare beers only available during the first hour of the fest\, a special edition VIP-only commemorative tasting glass\, and a food coupon redeemable for a snack from a designated food vendor. \nFeaturing live music from GYPSY DREAMS. \nShoreline Aquatic Park is a beautiful rolling grass-covered park with stunning views of Long Beach harbor. We encourage you to bring blankets and camp chairs and spend a day in the sun while sipping the best of LA beer. \n \n\nGeneral Admission: $70\nVIP Admission: $100\nDesignated Driver: $20\n\n \n**Tickets are not guaranteed to be available at the door. Buy your tickets early!** \n*NO physical tickets will be mailed. Please be sure to input the correct e-mail address when buying tickets as they will be EMAILED to you immediately after your purchase. (via .pdf attachment). Names on tickets DO NOT need to match ID on day of event. \n*NO pets or children allowed at the festival. We love pets and children\, but the city and most conventional thinking don’t think it’s a good idea to be at a beer fest with them. (Sorry!) 21+ ONLY. \n*Admission includes unlimited tastes of craft beer and a commemorative glass for both General Admission and VIP ticket-holders. \n*Foods of various shapes\, sizes\, tastes\, and dietary restrictions will be available for purchase! \n*This is a 21 and over event. All attendees must bring a valid government-issued ID to prove they are over 21 years of age. \n* By purchasing a ticket\, you agree to these Terms & Conditions\, which limit our liability. Please review these terms carefully. All attendees will be required to pass through a Security Screening upon entering the event. Please note that prohibited items include any weapons or outside alcohol. \n*P.S. We love you and this will be a ton of fun. \n \nCONFIRMED BREWERIES FOR 2026: (more to come!) \n\nAbsolution Brewing Company\nAll Season Brewing\nAltar Society Brewing Co.\nAmbitious Ales\nAngry Horse Brewing\nArrow Lodge Brewing\nArts District Brewing Company\nAudio Graph Beer\nBeachwood Brewing\nBenny Boy Brewing & Cider House\nBoomtown Brewery\nBRAMS Beer\nBravery Brewing\nBrewjeria Company\nBrewyard Beer Company\nBrown Soul Brewing\nBurnin Daylight Brewing Company\nCampsite Brewing Company\nCellador Ales\ncerveceria del pueblo\nClaremont Craft Ales\nCommon Space Brewery\nEl Segundo Brewing\nEureka Brewing\neverywhere\nFar Field Beer Company\nFrogtown\nGame Changer Brewhouse\nGladi8or Brews and Billiards\nHand-Brewed Beer\nHeiwa Sake Brewery USA Inc\nHermosa Brewing\nHighland Park Brewery\nHop Secret Brewing Company\nHopSaint Brewing Company\nIkasu Brewing\nInnovation Brew Works\nISM Brewing\nLA Bodega Brewing Co.\nLa Jara Brewing Company\nLa Verne Brewing\nLawless Brewing Company\nLincoln Beer Company\nLong Beach Beer Lab\nLos Angeles Ale Works\nLucky Luke Brewing\nMalibu Brewing Company\nOgopogo Brewing\nOld Stump Brewing Co\nPaperback Brewing\nProject Barley Brewery\nSanta Cruz Brewing Co.\nSanta Monica Brew Works\nShadow Grove Brewing\nSmog City Brewing\nSolarc Brewing\nSugar Monkey Brewing\nTortugo Brewing Company\nTrademark Brewing\nTrustedGut\nWhittier Brewing Company
URL:https://favoriteeateries.com/event/la-independent-beer-fest-2026-the-signature-event-of-la-beer-week/
LOCATION:ShoreLine Aquatic Park\, 200 Aquarium Way\, Long Beach\, CA\, 90802\, United States
CATEGORIES:Bourbon, Beer and Wine Festivals
ATTACH;FMTTYPE=image/jpeg:https://favoriteeateries.com/wp-content/uploads/2026/04/2ff816ef1e88ce769280026ede786522.jpg
END:VEVENT
END:VCALENDAR