BEGIN:VCALENDAR
VERSION:2.0
PRODID:-//Favorite Eateries and More - ECPv6.15.20//NONSGML v1.0//EN
CALSCALE:GREGORIAN
METHOD:PUBLISH
X-WR-CALNAME:Favorite Eateries and More
X-ORIGINAL-URL:https://favoriteeateries.com
X-WR-CALDESC:Events for Favorite Eateries and More
REFRESH-INTERVAL;VALUE=DURATION:PT1H
X-Robots-Tag:noindex
X-PUBLISHED-TTL:PT1H
BEGIN:VTIMEZONE
TZID:America/Los_Angeles
BEGIN:DAYLIGHT
TZOFFSETFROM:-0800
TZOFFSETTO:-0700
TZNAME:PDT
DTSTART:20250309T100000
END:DAYLIGHT
BEGIN:STANDARD
TZOFFSETFROM:-0700
TZOFFSETTO:-0800
TZNAME:PST
DTSTART:20251102T090000
END:STANDARD
BEGIN:DAYLIGHT
TZOFFSETFROM:-0800
TZOFFSETTO:-0700
TZNAME:PDT
DTSTART:20260308T100000
END:DAYLIGHT
BEGIN:STANDARD
TZOFFSETFROM:-0700
TZOFFSETTO:-0800
TZNAME:PST
DTSTART:20261101T090000
END:STANDARD
BEGIN:DAYLIGHT
TZOFFSETFROM:-0800
TZOFFSETTO:-0700
TZNAME:PDT
DTSTART:20270314T100000
END:DAYLIGHT
BEGIN:STANDARD
TZOFFSETFROM:-0700
TZOFFSETTO:-0800
TZNAME:PST
DTSTART:20271107T090000
END:STANDARD
END:VTIMEZONE
BEGIN:VTIMEZONE
TZID:America/Denver
BEGIN:DAYLIGHT
TZOFFSETFROM:-0700
TZOFFSETTO:-0600
TZNAME:MDT
DTSTART:20250309T090000
END:DAYLIGHT
BEGIN:STANDARD
TZOFFSETFROM:-0600
TZOFFSETTO:-0700
TZNAME:MST
DTSTART:20251102T080000
END:STANDARD
BEGIN:DAYLIGHT
TZOFFSETFROM:-0700
TZOFFSETTO:-0600
TZNAME:MDT
DTSTART:20260308T090000
END:DAYLIGHT
BEGIN:STANDARD
TZOFFSETFROM:-0600
TZOFFSETTO:-0700
TZNAME:MST
DTSTART:20261101T080000
END:STANDARD
BEGIN:DAYLIGHT
TZOFFSETFROM:-0700
TZOFFSETTO:-0600
TZNAME:MDT
DTSTART:20270314T090000
END:DAYLIGHT
BEGIN:STANDARD
TZOFFSETFROM:-0600
TZOFFSETTO:-0700
TZNAME:MST
DTSTART:20271107T080000
END:STANDARD
END:VTIMEZONE
BEGIN:VTIMEZONE
TZID:America/New_York
BEGIN:DAYLIGHT
TZOFFSETFROM:-0500
TZOFFSETTO:-0400
TZNAME:EDT
DTSTART:20250309T070000
END:DAYLIGHT
BEGIN:STANDARD
TZOFFSETFROM:-0400
TZOFFSETTO:-0500
TZNAME:EST
DTSTART:20251102T060000
END:STANDARD
BEGIN:DAYLIGHT
TZOFFSETFROM:-0500
TZOFFSETTO:-0400
TZNAME:EDT
DTSTART:20260308T070000
END:DAYLIGHT
BEGIN:STANDARD
TZOFFSETFROM:-0400
TZOFFSETTO:-0500
TZNAME:EST
DTSTART:20261101T060000
END:STANDARD
BEGIN:DAYLIGHT
TZOFFSETFROM:-0500
TZOFFSETTO:-0400
TZNAME:EDT
DTSTART:20270314T070000
END:DAYLIGHT
BEGIN:STANDARD
TZOFFSETFROM:-0400
TZOFFSETTO:-0500
TZNAME:EST
DTSTART:20271107T060000
END:STANDARD
END:VTIMEZONE
BEGIN:VEVENT
DTSTART;TZID=America/Los_Angeles:20260502T103000
DTEND;TZID=America/Los_Angeles:20260502T120000
DTSTAMP:20260422T065056
CREATED:20260420T021803Z
LAST-MODIFIED:20260420T023749Z
UID:24897-1777717800-1777723200@favoriteeateries.com
SUMMARY:Beer Yoga & Local Market
DESCRIPTION:Beer Yoga and Local Market at Dying Breed\n\n\nGrab your drinking buddies and your yoga mat and join us for an energetic flow at Dying Breed Brewing in Oakdale! \nThis is a beginner-friendly class — no experience needed in yoga or drinking 😝 \nWe’ll have amazing local vendors set up\, so come ready to shop\, sip\, and soak up all the fun vibes. Enjoy a cold beer as we move through a 45-minute flow\, using your brew as a prop along the way. Expect movement\, laughter\, and a seriously good time. \n✨ Each ticket includes: \n\nTwo drink tickets\n45 minutes of yoga with Stephannie\n\nPlease arrive 15–20 minutes early to grab your spot and your beverage before we get started. \nDon’t have a yoga mat? No worries — you can rent one at checkout. \nWe can’t wait to flow with you!Follow me on Instagram for updates and more info: @schmiiit
URL:https://favoriteeateries.com/event/beer-yoga-local-market/
LOCATION:Dying Breed Brewing\, 963 Shepard Court\, #Suite B\, Oakdale\, CA\, 95361\, United States
CATEGORIES:Bourbon, Beer and Wine Festivals,Yoga, Runs or Rides
ATTACH;FMTTYPE=image/jpeg:https://favoriteeateries.com/wp-content/uploads/2026/04/72a725e70eeb26c56f7325160ec125c7-1.jpg
END:VEVENT
BEGIN:VEVENT
DTSTART;TZID=America/Denver:20260502T110000
DTEND;TZID=America/Denver:20260502T133000
DTSTAMP:20260422T065056
CREATED:20260420T020954Z
LAST-MODIFIED:20260420T023732Z
UID:24889-1777719600-1777728600@favoriteeateries.com
SUMMARY:World of Belgian Beers (Midtown)
DESCRIPTION:A guided tasting by our Co-founder and Brewmaster\, Charlie\, of the major categories of Belgian beers.\n\n\nDuring this workshop\, you will have the opportunity to taste more than a dozen Belgian beer styles as you learn the history and characteristics of each.
URL:https://favoriteeateries.com/event/world-of-belgian-beers-midtown/
LOCATION:Bruz Beers\, 1675 West 67th Avenue\, ##100\, Denver\, CO\, 80221\, United States
CATEGORIES:Bourbon, Beer and Wine Festivals
ATTACH;FMTTYPE=image/jpeg:https://favoriteeateries.com/wp-content/uploads/2026/04/31de16c5303efca1e9f8987db5a4e0af.jpg
END:VEVENT
BEGIN:VEVENT
DTSTART;TZID=America/New_York:20260502T120000
DTEND;TZID=America/New_York:20260502T170000
DTSTAMP:20260422T065056
CREATED:20260420T021946Z
LAST-MODIFIED:20260420T023704Z
UID:24906-1777723200-1777741200@favoriteeateries.com
SUMMARY:Budbreak Wine & Craft Beer Festival
DESCRIPTION:Sip local wines and craft brews while enjoying live music at the Budbreak Wine & Craft Beer Festival!\n\n\nBudbreak Wine & Craft Beer Festival\nThe Budbreak Wine and Craft Beer Festival in Downtown Mount Airy\, NC\, is an annual event celebrating local wineries\, breweries\, and artisans. Held in the spring\, this festival offers visitors a chance to sample a variety of wines\, craft beers\, and local foods while enjoying live music on vibrant and historic Main Street. \nBudbreak Wine & Craft Beer Festival showcases the best of the region’s emerging wine and craft beer scene\, making it a must-visit for enthusiasts and casual visitors alike. The event provides a unique opportunity to experience the charm of Mount Airy while supporting local businesses and makers.
URL:https://favoriteeateries.com/event/budbreak-wine-craft-beer-festival/
LOCATION:Downtown Mount Airy\, NC\, 301 N Main Street\, Mount Airy\, NC\, 27030\, United States
CATEGORIES:Bourbon, Beer and Wine Festivals
ATTACH;FMTTYPE=image/jpeg:https://favoriteeateries.com/wp-content/uploads/2026/04/594dda059267dd6c08ad585936f1a0a5.jpg
END:VEVENT
BEGIN:VEVENT
DTSTART;TZID=America/New_York:20260502T120000
DTEND;TZID=America/New_York:20260502T180000
DTSTAMP:20260422T065056
CREATED:20260420T030715Z
LAST-MODIFIED:20260420T030719Z
UID:24995-1777723200-1777744800@favoriteeateries.com
SUMMARY:Beer\, Bourbon & BBQ Festival - NOVA
DESCRIPTION:IT IS TIME TO GO HOG WILD!!  We are returning to the NOVA  for all things Beer\, Bourbon\, & BBQ!\n\n\nNorthern Virginia is Smokin’ & GOING HOG WILD!!\nNorthern Virginia’s BIGGEST\, BADDEST\, BONE-IN\, BBQ Fest is HERE! This 5th Annual affair offers up all those pleasures that true Southerners live by – Beer\, Bourbon\, Barbecue\, Boots\, Bacon\, Biscuits\, Bluegrass\, and Smoked Beasts! It’s a great day of beer sippin’\, bourbon tastin’\, music listenin’\, cigar smokin’\, and barbecue eatin’. Your admission buys you a sampling glass so you can enjoy an ALL-YOU-CARE-TO-TASTE sampling of beer and bourbon.\nUnleash Your Beast……. with OVER 60+ BEERS\, 40+ BOURBONS\, AND LOTS OF BARBECUE!NEW BEAST MODE CABANAS. DO you have a group of friends who are the LIFE of the PARTY – bring it!!! This package is VERY EXCLUSIVE & LIMITED and Offers you – your own oasis at the show. \n\nEach Guest Receives a Souvenir Tasting Cup to enjoy All You Care To Taste Beer and Bourbon Tastings as you stroll from table to table.\nThe SHRINE OF SWINE is back! Enjoy whole hogs during each session. Pork worship at its finest!\nBBQ Galore! Enjoy the great barbeque selection from our vendors onsite – pulled pork from whole hogs\, ribs\, brisket\, chickens\, sausages and all the fixins’ you can imagine. We’ll keep the portions heavy and the prices low.\nEnjoy seminars in the Tasting Theater with Master Distillers\, Brewmasters\, and Pit Masters from the deep South.\nGAME IT: The Cochon Carnival is loaded with fun activities and games to keep everyone challenged. Connect four\, giant jenga\, cornhole\, and so much more…\nDANCE: Listen To Live Rock & Blues Music on The Main Stage.\nSHOP: Browse Cool Exhibits of Brewerania\, Hot sauces\, BBQ accessories\, Cigars\, and more!\n\nVIP Admission\nValid from 12pm – 6pm \nThe VIP ticket includes 6 hours of sampling\, a souvenir tasting cup\, all-you-care-to-taste sampling of beer and bourbon\, a BBQ dinner plate\, VIP exclusive open-flame meat and specialty beverage sampling\, special VIP Lounge Area (VIP Area closes at 5pm) and VIP Washroom\, and live entertainment. These tickets are limited and always SELL OUT. \nGeneral Admission\nValid from 2pm – 6pm \nThis GA ticket includes a souvenir tasting cup\, all-you-care-to-taste sampling of beer and bourbon\, and all live entertainment. \nEntry Only tickets are sold Onsite Only for $25 on the day of the event.\nPLEASE NOTE: \n\nAll sales are FINAL and NON-REFUNDABLE. Please email Te**@***********ax.com for alternative options.\nE vent is Rain or Shine.\nPets are not permitted to enter the event; this is for the safety and comfort of other attendees. Service animals excluded.\n\nFor Additional Information\, Please Visit our Website! \nHome \n \nInterested in being Vendor? \nEmail: sa***@***********ax.com
URL:https://favoriteeateries.com/event/beer-bourbon-bbq-festival-nova/
LOCATION:Prince William County Fairgrounds\, 10624 Dumfries Road\, Manassas\, VA\, 20112\, United States
CATEGORIES:Bourbon, Beer and Wine Festivals
ATTACH;FMTTYPE=image/jpeg:https://favoriteeateries.com/wp-content/uploads/2026/04/a69912494ce96ec297629485a813a409.jpg
END:VEVENT
BEGIN:VEVENT
DTSTART;TZID=America/Los_Angeles:20260502T130000
DTEND;TZID=America/Los_Angeles:20260502T180000
DTSTAMP:20260422T065056
CREATED:20260420T022852Z
LAST-MODIFIED:20260420T023642Z
UID:24930-1777726800-1777744800@favoriteeateries.com
SUMMARY:28th Annual Legendary Boonville Beer Festival General Ticketing
DESCRIPTION:Welcome to the 28th Annual Legendary Boonville Beer Festival!\n\n\nWelcome to the 28th Annual Legendary Boonville Beer Festival!\n“The bahlest steinber hornin’ chiggrul gormin’ tidrick in the heelch of the Boont Region!” \nThank you for supporting our non-profit event! \nThis will be our biggest event in years\, with more breweries\, N/A offerings\, cider\, sake\, and so much more – you won’t want to miss it! \nThis year’s theme is  vs. Barkley: Legend of Drunken Master – an homage to both our favorite Kaiju movies and Kung Fu movies. Dress to impress – there’s no better place to go big! \nBuy your tickets early and save more! \nFor the first time we’re offering a VIP experience for those who want only the best! Get early entry and access to a cooled tent area\, with special pours\, snacks\, and a one-of-a-kind swag bag! \nBRING your TICKETS – they are emailed to you when you order. There will be no one at the brewery to help as we are all at the fairgrounds. There are NO refunds. If you cannot attend – you are donating to our area non-profits and they thank you! \nThis is a non-profit event. Gates open at 1:00PM. Taps open at 1:00 p.m. and close at 5 p.m. Festival closes at 6 p.m. Please sample responsibly. \nLive music on multiple stages\, and back at the brewery! \n\n\nParticipating Breweries: \n\nAlameda Brewing\nAlmanac Beer Co.\nAltamont Beer Works\nAnderson Valley Brewing\nBoochcraft Hard Kombucha\nBrix Factory Brewing\nCalicraft\nCentral Coast Brewing\nChromatic Coffee\nCold Water Brewery and Grill\nCrooked Goat Brewing\nCrow & Wolf Brewing Co.\nCuver Belgian Brewers\nDanville Brewing Company\nDel Cielo Brewing\nDeschutes Brewery\nDrake’s Brewing Co/Bear Republic\nEast Brother Beer Co\nEel River Brewing Co\nEpidemic Ales\nFieldwork\nFogbelt Brewing\nFour Legs Brewing\nGhost Town Brewing\nGowan’s Heirloom Cider\nHapas Brewing Company\nHenHouse Brewing\nHiveworks Mead\nHop Oast Pub & Brewery\nHumboldt Cider Co\nLaughing Monk Brewing\nMad Fritz\nMoonlight Brewing\nMorgan Territory Brewing\nNorth Coast Brewing Company\nNorthspur Brewing\nOld Caz Beer\nOutlaw Light\nOvertime Brewing\nPaskenta Mad River Brewing\nRockaway Beach Brewery\nRussian River Brewing Company\nSideTrack Mead\nSierra Nevada Brewing Co.\nSincere Cider\nSolano Brewing Company\nSouth Lake Brewing Company\nSouth of North Brewing Company\nStumptown Brewery\nTall Guy Brewing\nTannery Bend Beerworks\nThe Brewer’s Cabinet\nTouchstone Brewing Company\nWolf House Brewing Company\n\n\n\nA few regulations: \n\nYou must be 21 or over to attend.\nYou must have a valid (current) photo I.D. to be admitted.\nNo infants. No toddlers. No dogs. No glass.\nNo designated drivers under 21.\nAll attendees must wear the wristband supplied and affixed by the Festival staff. Persons without wristbands will be summarily ejected from the Festival grounds ; no whining\, excuses or exceptions will be tolerated.\nFestival management reserves the right to refuse service to anyone at any time for any reason. The right to attend can be revoked at any time.\nYour eTICKETS will be included in your Order Confirmation Email. Please PRINT or have the QR code on your Smart Phone for entry. You can use the Eventbrite App.\nInformation on camping at the Mendocino County Fairgrounds is available at: https://mendocountyfair.com/camping/\nAll purchases are final. No refunds.
URL:https://favoriteeateries.com/event/28th-annual-legendary-boonville-beer-festival-general-ticketing/
LOCATION:Mendocino County Fairgrounds‎\, 14400 Highway 128\, Boonville\, CA\, 95415\, United States
CATEGORIES:Bourbon, Beer and Wine Festivals
ATTACH;FMTTYPE=image/jpeg:https://favoriteeateries.com/wp-content/uploads/2026/04/e31bf5bde23bc457ec37267fa114f03f.jpg
END:VEVENT
BEGIN:VEVENT
DTSTART;TZID=America/New_York:20260503T100000
DTEND;TZID=America/New_York:20260503T110000
DTSTAMP:20260422T065056
CREATED:20260420T023137Z
LAST-MODIFIED:20260420T023628Z
UID:24940-1777802400-1777806000@favoriteeateries.com
SUMMARY:Beer Yoga at LauderAle Brewery
DESCRIPTION:Yoga in the taproom at LauderAle. We incorporate a signature ale in to the poses for the last part of class!
URL:https://favoriteeateries.com/event/beer-yoga-at-lauderale-brewery-2/
LOCATION:LauderAle brewery\, 3305 SE 14th Ave\, Fort Lauderdale\, FL 33316\, Fort Lauderdale\, FL\, 33316\, United States
CATEGORIES:Bourbon, Beer and Wine Festivals
ATTACH;FMTTYPE=image/jpeg:https://favoriteeateries.com/wp-content/uploads/2026/04/ba4e92382b750694cb19a2de2e758193.jpg
END:VEVENT
BEGIN:VEVENT
DTSTART;TZID=America/New_York:20260510T100000
DTEND;TZID=America/New_York:20260510T110000
DTSTAMP:20260422T065056
CREATED:20260420T023137Z
LAST-MODIFIED:20260420T023557Z
UID:24941-1778407200-1778410800@favoriteeateries.com
SUMMARY:Beer Yoga at LauderAle Brewery
DESCRIPTION:Yoga in the taproom at LauderAle. We incorporate a signature ale in to the poses for the last part of class!
URL:https://favoriteeateries.com/event/beer-yoga-at-lauderale-brewery-3/
LOCATION:LauderAle brewery\, 3305 SE 14th Ave\, Fort Lauderdale\, FL 33316\, Fort Lauderdale\, FL\, 33316\, United States
CATEGORIES:Bourbon, Beer and Wine Festivals
ATTACH;FMTTYPE=image/jpeg:https://favoriteeateries.com/wp-content/uploads/2026/04/ba4e92382b750694cb19a2de2e758193.jpg
END:VEVENT
BEGIN:VEVENT
DTSTART;TZID=America/New_York:20260524T100000
DTEND;TZID=America/New_York:20260524T110000
DTSTAMP:20260422T065056
CREATED:20260420T023137Z
LAST-MODIFIED:20260420T023428Z
UID:24943-1779616800-1779620400@favoriteeateries.com
SUMMARY:Beer Yoga at LauderAle Brewery
DESCRIPTION:Yoga in the taproom at LauderAle. We incorporate a signature ale in to the poses for the last part of class!
URL:https://favoriteeateries.com/event/beer-yoga-at-lauderale-brewery-5/
LOCATION:LauderAle brewery\, 3305 SE 14th Ave\, Fort Lauderdale\, FL 33316\, Fort Lauderdale\, FL\, 33316\, United States
CATEGORIES:Bourbon, Beer and Wine Festivals
ATTACH;FMTTYPE=image/jpeg:https://favoriteeateries.com/wp-content/uploads/2026/04/ba4e92382b750694cb19a2de2e758193.jpg
END:VEVENT
END:VCALENDAR