BEGIN:VCALENDAR
VERSION:2.0
PRODID:-//Favorite Eateries and More - ECPv6.15.20//NONSGML v1.0//EN
CALSCALE:GREGORIAN
METHOD:PUBLISH
X-ORIGINAL-URL:https://favoriteeateries.com
X-WR-CALDESC:Events for Favorite Eateries and More
REFRESH-INTERVAL;VALUE=DURATION:PT1H
X-Robots-Tag:noindex
X-PUBLISHED-TTL:PT1H
BEGIN:VTIMEZONE
TZID:America/New_York
BEGIN:DAYLIGHT
TZOFFSETFROM:-0500
TZOFFSETTO:-0400
TZNAME:EDT
DTSTART:20250309T070000
END:DAYLIGHT
BEGIN:STANDARD
TZOFFSETFROM:-0400
TZOFFSETTO:-0500
TZNAME:EST
DTSTART:20251102T060000
END:STANDARD
BEGIN:DAYLIGHT
TZOFFSETFROM:-0500
TZOFFSETTO:-0400
TZNAME:EDT
DTSTART:20260308T070000
END:DAYLIGHT
BEGIN:STANDARD
TZOFFSETFROM:-0400
TZOFFSETTO:-0500
TZNAME:EST
DTSTART:20261101T060000
END:STANDARD
BEGIN:DAYLIGHT
TZOFFSETFROM:-0500
TZOFFSETTO:-0400
TZNAME:EDT
DTSTART:20270314T070000
END:DAYLIGHT
BEGIN:STANDARD
TZOFFSETFROM:-0400
TZOFFSETTO:-0500
TZNAME:EST
DTSTART:20271107T060000
END:STANDARD
END:VTIMEZONE
BEGIN:VEVENT
DTSTART;TZID=America/New_York:20260516T170000
DTEND;TZID=America/New_York:20260516T220000
DTSTAMP:20260420T030029
CREATED:20260420T013740Z
LAST-MODIFIED:20260420T023532Z
UID:24856-1778950800-1778968800@favoriteeateries.com
SUMMARY:Island Vibez Reggae Block Party 2026
DESCRIPTION:Reggae • Dancehall • Caribbean Food • Outdoor Party\nSaturday May 16\, 2026 | Jenkins on the Ashley – North Charleston\, SC\n\n\nCharleston\, get ready for one of the best reggae parties of 2026  \nThe Island Vibez Reggae Block Party is bringing a high-energy Caribbean party + food and music festival to North Charleston this spring. \nIf you’re searching for:  \n     ✔ Reggae events in Charleston  \n     ✔ Caribbean parties near me  \n     ✔ Outdoor day parties in Charleston  \n     ✔ Things to do in Charleston May 2026 \nThis is the event you don’t want to miss. \n \nEnjoy an unforgettable evening of: \nReggae & Dancehall Music featuring Mystic Vibrations and Tropix International Sounds \nCaribbean Food Vendors Jerk chicken\, island cuisine\, and authentic flavors \nTropical Cocktails Rum punch and island-inspired drinks \nOutdoor Block Party Energy Day party vibes turning into a high-energy night \nDancing & Culture A true Caribbean experience in Charleston \n \nEvent: Reggae Block Party Charleston 2026 \nDate: Saturday\, May 16\, 2026 \nTime: Gates open at 5PM \nLocation: Jenkins on the Ashley \nAddress: 3923 Azalea Drive\, North Charleston\, SC \n \nLooking for affordable events in Charleston? Start early and save: \n⚡ Early Bird Tickets – $10 (Ends March 31)  \n🎟️ Advance Tickets – $20 (April 1 – April 30)  \n🔥 General Admission – $25 (May 1 – May 15)  \n🚪 At The Door – $30 (May 16) \n⚠️ Ticket prices increase as the event gets closer. \nChildren 12 and under are FREE \nDon’t wait until tickets go up. \nSecure your spot now for one of the best Charleston events in May 2026
URL:https://favoriteeateries.com/event/island-vibez-reggae-block-party-2026/
LOCATION:Jenkins Youth and Family Village\, 3923 Azalea Drive\, North Charleston\, SC\, 29405\, United States
CATEGORIES:Block Parties
ATTACH;FMTTYPE=image/jpeg:https://favoriteeateries.com/wp-content/uploads/2026/04/335af6eba9e73a20b3f9a9c07555de10.jpg
END:VEVENT
END:VCALENDAR