BEGIN:VCALENDAR
VERSION:2.0
PRODID:-//Favorite Eateries and More - ECPv6.15.20//NONSGML v1.0//EN
CALSCALE:GREGORIAN
METHOD:PUBLISH
X-ORIGINAL-URL:https://favoriteeateries.com
X-WR-CALDESC:Events for Favorite Eateries and More
REFRESH-INTERVAL;VALUE=DURATION:PT1H
X-Robots-Tag:noindex
X-PUBLISHED-TTL:PT1H
BEGIN:VTIMEZONE
TZID:America/New_York
BEGIN:DAYLIGHT
TZOFFSETFROM:-0500
TZOFFSETTO:-0400
TZNAME:EDT
DTSTART:20250309T070000
END:DAYLIGHT
BEGIN:STANDARD
TZOFFSETFROM:-0400
TZOFFSETTO:-0500
TZNAME:EST
DTSTART:20251102T060000
END:STANDARD
BEGIN:DAYLIGHT
TZOFFSETFROM:-0500
TZOFFSETTO:-0400
TZNAME:EDT
DTSTART:20260308T070000
END:DAYLIGHT
BEGIN:STANDARD
TZOFFSETFROM:-0400
TZOFFSETTO:-0500
TZNAME:EST
DTSTART:20261101T060000
END:STANDARD
BEGIN:DAYLIGHT
TZOFFSETFROM:-0500
TZOFFSETTO:-0400
TZNAME:EDT
DTSTART:20270314T070000
END:DAYLIGHT
BEGIN:STANDARD
TZOFFSETFROM:-0400
TZOFFSETTO:-0500
TZNAME:EST
DTSTART:20271107T060000
END:STANDARD
END:VTIMEZONE
BEGIN:VEVENT
DTSTART;TZID=America/New_York:20260424T190000
DTEND;TZID=America/New_York:20260426T233000
DTSTAMP:20260420T000656
CREATED:20260420T013407Z
LAST-MODIFIED:20260420T023924Z
UID:24848-1777057200-1777246200@favoriteeateries.com
SUMMARY:The 2026 Black Food Truck Festival
DESCRIPTION:Welcome to The 2026 Black Food Truck Festival\, our 5 year anniversary  celebrating the culture of Black American food & music!\n\n\nWelcome to The 2026 Black Food Truck Festival 5 Year Anniversary\, a family oriented event celebrating the finest Black-owned food trucks in the country! Our mission is to create a social and economic impact on the community by showcasing and investing in area Black-owned businesses. \nJoin us April 24th-26th\, 2026\, in Charleston\, South Carolina\, for an incredible weekend of non-stop food\, music\, and culture! From our Friday night soiree\, Rhythms & Booze\, to the Black Food Truck Festival on Saturday and Sunday at Exchange Park\, to afterparties\, workouts\, and so much more—we are excited to celebrate again and enjoy with all of you! \nCHILDREN AGES 10 YEARS UNDER ARE CURRENTLY FREE!
URL:https://favoriteeateries.com/event/the-2026-black-food-truck-festival/
LOCATION:The Exchange Park Fairgrounds\, 9850 Highway 78\, Ladson\, SC\, 29456\, United States
CATEGORIES:Food Festivals
ATTACH;FMTTYPE=image/jpeg:https://favoriteeateries.com/wp-content/uploads/2026/04/222b0cc653c01aa0b33d4e0237d902ec.jpg
END:VEVENT
BEGIN:VEVENT
DTSTART;TZID=America/New_York:20260426T100000
DTEND;TZID=America/New_York:20260426T110000
DTSTAMP:20260420T000656
CREATED:20260420T023136Z
LAST-MODIFIED:20260420T023825Z
UID:24938-1777197600-1777201200@favoriteeateries.com
SUMMARY:Beer Yoga at LauderAle Brewery
DESCRIPTION:Yoga in the taproom at LauderAle. We incorporate a signature ale in to the poses for the last part of class!
URL:https://favoriteeateries.com/event/beer-yoga-at-lauderale-brewery/
LOCATION:LauderAle brewery\, 3305 SE 14th Ave\, Fort Lauderdale\, FL 33316\, Fort Lauderdale\, FL\, 33316\, United States
CATEGORIES:Bourbon, Beer and Wine Festivals,Yoga, Runs or Rides
ATTACH;FMTTYPE=image/jpeg:https://favoriteeateries.com/wp-content/uploads/2026/04/ba4e92382b750694cb19a2de2e758193.jpg
END:VEVENT
END:VCALENDAR